BEGIN:VCALENDAR
VERSION:2.0
PRODID:-//BOLD Dance - ECPv6.15.20//NONSGML v1.0//EN
CALSCALE:GREGORIAN
METHOD:PUBLISH
X-WR-CALNAME:BOLD Dance
X-ORIGINAL-URL:https://bolddance.org
X-WR-CALDESC:Events for BOLD Dance
REFRESH-INTERVAL;VALUE=DURATION:PT1H
X-Robots-Tag:noindex
X-PUBLISHED-TTL:PT1H
BEGIN:VTIMEZONE
TZID:America/Indiana/Indianapolis
BEGIN:DAYLIGHT
TZOFFSETFROM:-0500
TZOFFSETTO:-0400
TZNAME:EDT
DTSTART:20250309T070000
END:DAYLIGHT
BEGIN:STANDARD
TZOFFSETFROM:-0400
TZOFFSETTO:-0500
TZNAME:EST
DTSTART:20251102T060000
END:STANDARD
BEGIN:DAYLIGHT
TZOFFSETFROM:-0500
TZOFFSETTO:-0400
TZNAME:EDT
DTSTART:20260308T070000
END:DAYLIGHT
BEGIN:STANDARD
TZOFFSETFROM:-0400
TZOFFSETTO:-0500
TZNAME:EST
DTSTART:20261101T060000
END:STANDARD
BEGIN:DAYLIGHT
TZOFFSETFROM:-0500
TZOFFSETTO:-0400
TZNAME:EDT
DTSTART:20270314T070000
END:DAYLIGHT
BEGIN:STANDARD
TZOFFSETFROM:-0400
TZOFFSETTO:-0500
TZNAME:EST
DTSTART:20271107T060000
END:STANDARD
END:VTIMEZONE
BEGIN:VEVENT
DTSTART;TZID=America/Indiana/Indianapolis:20260427T170000
DTEND;TZID=America/Indiana/Indianapolis:20260427T180000
DTSTAMP:20260423T081728
CREATED:20250302T172614Z
LAST-MODIFIED:20260226T194246Z
UID:10000330-1777309200-1777312800@bolddance.org
SUMMARY:Monday Group Class
DESCRIPTION:Monday Group Class – Open to all levels.
URL:https://bolddance.org/event/monday-group-class/2026-04-27/
LOCATION:Carmel Ballroom Dance Studio\, 111 Medical Drive\, Carmel\, IN\, 46032\, United States
ORGANIZER;CN="BOLD Benefits of Learning Dance":MAILTO:5678bolddance@gmail.com
END:VEVENT
BEGIN:VEVENT
DTSTART;TZID=America/Indiana/Indianapolis:20260504T170000
DTEND;TZID=America/Indiana/Indianapolis:20260504T180000
DTSTAMP:20260423T081728
CREATED:20250302T172614Z
LAST-MODIFIED:20260226T194246Z
UID:10000331-1777914000-1777917600@bolddance.org
SUMMARY:Monday Group Class
DESCRIPTION:Monday Group Class – Open to all levels.
URL:https://bolddance.org/event/monday-group-class/2026-05-04/
LOCATION:Carmel Ballroom Dance Studio\, 111 Medical Drive\, Carmel\, IN\, 46032\, United States
ORGANIZER;CN="BOLD Benefits of Learning Dance":MAILTO:5678bolddance@gmail.com
END:VEVENT
BEGIN:VEVENT
DTSTART;TZID=America/Indiana/Indianapolis:20260511T170000
DTEND;TZID=America/Indiana/Indianapolis:20260511T180000
DTSTAMP:20260423T081728
CREATED:20250302T172614Z
LAST-MODIFIED:20260226T194246Z
UID:10000332-1778518800-1778522400@bolddance.org
SUMMARY:Monday Group Class
DESCRIPTION:Monday Group Class – Open to all levels.
URL:https://bolddance.org/event/monday-group-class/2026-05-11/
LOCATION:Carmel Ballroom Dance Studio\, 111 Medical Drive\, Carmel\, IN\, 46032\, United States
ORGANIZER;CN="BOLD Benefits of Learning Dance":MAILTO:5678bolddance@gmail.com
END:VEVENT
BEGIN:VEVENT
DTSTART;TZID=America/Indiana/Indianapolis:20260518T170000
DTEND;TZID=America/Indiana/Indianapolis:20260518T180000
DTSTAMP:20260423T081728
CREATED:20250302T172614Z
LAST-MODIFIED:20260226T194246Z
UID:10000333-1779123600-1779127200@bolddance.org
SUMMARY:Monday Group Class
DESCRIPTION:Monday Group Class – Open to all levels.
URL:https://bolddance.org/event/monday-group-class/2026-05-18/
LOCATION:Carmel Ballroom Dance Studio\, 111 Medical Drive\, Carmel\, IN\, 46032\, United States
ORGANIZER;CN="BOLD Benefits of Learning Dance":MAILTO:5678bolddance@gmail.com
END:VEVENT
BEGIN:VEVENT
DTSTART;TZID=America/Indiana/Indianapolis:20260601T170000
DTEND;TZID=America/Indiana/Indianapolis:20260601T180000
DTSTAMP:20260423T081728
CREATED:20250302T172614Z
LAST-MODIFIED:20260226T194246Z
UID:10000335-1780333200-1780336800@bolddance.org
SUMMARY:Monday Group Class
DESCRIPTION:Monday Group Class – Open to all levels.
URL:https://bolddance.org/event/monday-group-class/2026-06-01/
LOCATION:Carmel Ballroom Dance Studio\, 111 Medical Drive\, Carmel\, IN\, 46032\, United States
ORGANIZER;CN="BOLD Benefits of Learning Dance":MAILTO:5678bolddance@gmail.com
END:VEVENT
BEGIN:VEVENT
DTSTART;TZID=America/Indiana/Indianapolis:20260608T170000
DTEND;TZID=America/Indiana/Indianapolis:20260608T180000
DTSTAMP:20260423T081728
CREATED:20250302T172614Z
LAST-MODIFIED:20260226T194246Z
UID:10000336-1780938000-1780941600@bolddance.org
SUMMARY:Monday Group Class
DESCRIPTION:Monday Group Class – Open to all levels.
URL:https://bolddance.org/event/monday-group-class/2026-06-08/
LOCATION:Carmel Ballroom Dance Studio\, 111 Medical Drive\, Carmel\, IN\, 46032\, United States
ORGANIZER;CN="BOLD Benefits of Learning Dance":MAILTO:5678bolddance@gmail.com
END:VEVENT
BEGIN:VEVENT
DTSTART;TZID=America/Indiana/Indianapolis:20260615T170000
DTEND;TZID=America/Indiana/Indianapolis:20260615T180000
DTSTAMP:20260423T081728
CREATED:20250302T172614Z
LAST-MODIFIED:20260226T194246Z
UID:10000337-1781542800-1781546400@bolddance.org
SUMMARY:Monday Group Class
DESCRIPTION:Monday Group Class – Open to all levels.
URL:https://bolddance.org/event/monday-group-class/2026-06-15/
LOCATION:Carmel Ballroom Dance Studio\, 111 Medical Drive\, Carmel\, IN\, 46032\, United States
ORGANIZER;CN="BOLD Benefits of Learning Dance":MAILTO:5678bolddance@gmail.com
END:VEVENT
BEGIN:VEVENT
DTSTART;TZID=America/Indiana/Indianapolis:20260622T170000
DTEND;TZID=America/Indiana/Indianapolis:20260622T180000
DTSTAMP:20260423T081728
CREATED:20250302T172614Z
LAST-MODIFIED:20260226T194246Z
UID:10000338-1782147600-1782151200@bolddance.org
SUMMARY:Monday Group Class
DESCRIPTION:Monday Group Class – Open to all levels.
URL:https://bolddance.org/event/monday-group-class/2026-06-22/
LOCATION:Carmel Ballroom Dance Studio\, 111 Medical Drive\, Carmel\, IN\, 46032\, United States
ORGANIZER;CN="BOLD Benefits of Learning Dance":MAILTO:5678bolddance@gmail.com
END:VEVENT
BEGIN:VEVENT
DTSTART;TZID=America/Indiana/Indianapolis:20260629T170000
DTEND;TZID=America/Indiana/Indianapolis:20260629T180000
DTSTAMP:20260423T081728
CREATED:20250302T172614Z
LAST-MODIFIED:20260226T194246Z
UID:10000339-1782752400-1782756000@bolddance.org
SUMMARY:Monday Group Class
DESCRIPTION:Monday Group Class – Open to all levels.
URL:https://bolddance.org/event/monday-group-class/2026-06-29/
LOCATION:Carmel Ballroom Dance Studio\, 111 Medical Drive\, Carmel\, IN\, 46032\, United States
ORGANIZER;CN="BOLD Benefits of Learning Dance":MAILTO:5678bolddance@gmail.com
END:VEVENT
BEGIN:VEVENT
DTSTART;TZID=America/Indiana/Indianapolis:20260706T170000
DTEND;TZID=America/Indiana/Indianapolis:20260706T180000
DTSTAMP:20260423T081728
CREATED:20250302T172614Z
LAST-MODIFIED:20260226T194246Z
UID:10000340-1783357200-1783360800@bolddance.org
SUMMARY:Monday Group Class
DESCRIPTION:Monday Group Class – Open to all levels.
URL:https://bolddance.org/event/monday-group-class/2026-07-06/
LOCATION:Carmel Ballroom Dance Studio\, 111 Medical Drive\, Carmel\, IN\, 46032\, United States
ORGANIZER;CN="BOLD Benefits of Learning Dance":MAILTO:5678bolddance@gmail.com
END:VEVENT
BEGIN:VEVENT
DTSTART;TZID=America/Indiana/Indianapolis:20260713T170000
DTEND;TZID=America/Indiana/Indianapolis:20260713T180000
DTSTAMP:20260423T081728
CREATED:20250302T172614Z
LAST-MODIFIED:20260226T194246Z
UID:10000341-1783962000-1783965600@bolddance.org
SUMMARY:Monday Group Class
DESCRIPTION:Monday Group Class – Open to all levels.
URL:https://bolddance.org/event/monday-group-class/2026-07-13/
LOCATION:Carmel Ballroom Dance Studio\, 111 Medical Drive\, Carmel\, IN\, 46032\, United States
ORGANIZER;CN="BOLD Benefits of Learning Dance":MAILTO:5678bolddance@gmail.com
END:VEVENT
BEGIN:VEVENT
DTSTART;TZID=America/Indiana/Indianapolis:20260720T170000
DTEND;TZID=America/Indiana/Indianapolis:20260720T180000
DTSTAMP:20260423T081728
CREATED:20250302T172614Z
LAST-MODIFIED:20260226T194246Z
UID:10000342-1784566800-1784570400@bolddance.org
SUMMARY:Monday Group Class
DESCRIPTION:Monday Group Class – Open to all levels.
URL:https://bolddance.org/event/monday-group-class/2026-07-20/
LOCATION:Carmel Ballroom Dance Studio\, 111 Medical Drive\, Carmel\, IN\, 46032\, United States
ORGANIZER;CN="BOLD Benefits of Learning Dance":MAILTO:5678bolddance@gmail.com
END:VEVENT
BEGIN:VEVENT
DTSTART;TZID=America/Indiana/Indianapolis:20260727T170000
DTEND;TZID=America/Indiana/Indianapolis:20260727T180000
DTSTAMP:20260423T081728
CREATED:20250302T172614Z
LAST-MODIFIED:20260226T194246Z
UID:10000343-1785171600-1785175200@bolddance.org
SUMMARY:Monday Group Class
DESCRIPTION:Monday Group Class – Open to all levels.
URL:https://bolddance.org/event/monday-group-class/2026-07-27/
LOCATION:Carmel Ballroom Dance Studio\, 111 Medical Drive\, Carmel\, IN\, 46032\, United States
ORGANIZER;CN="BOLD Benefits of Learning Dance":MAILTO:5678bolddance@gmail.com
END:VEVENT
BEGIN:VEVENT
DTSTART;TZID=America/Indiana/Indianapolis:20260803T170000
DTEND;TZID=America/Indiana/Indianapolis:20260803T180000
DTSTAMP:20260423T081728
CREATED:20250302T172614Z
LAST-MODIFIED:20260226T194246Z
UID:10000344-1785776400-1785780000@bolddance.org
SUMMARY:Monday Group Class
DESCRIPTION:Monday Group Class – Open to all levels.
URL:https://bolddance.org/event/monday-group-class/2026-08-03/
LOCATION:Carmel Ballroom Dance Studio\, 111 Medical Drive\, Carmel\, IN\, 46032\, United States
ORGANIZER;CN="BOLD Benefits of Learning Dance":MAILTO:5678bolddance@gmail.com
END:VEVENT
BEGIN:VEVENT
DTSTART;TZID=America/Indiana/Indianapolis:20260810T170000
DTEND;TZID=America/Indiana/Indianapolis:20260810T180000
DTSTAMP:20260423T081728
CREATED:20250302T172614Z
LAST-MODIFIED:20260226T194246Z
UID:10000345-1786381200-1786384800@bolddance.org
SUMMARY:Monday Group Class
DESCRIPTION:Monday Group Class – Open to all levels.
URL:https://bolddance.org/event/monday-group-class/2026-08-10/
LOCATION:Carmel Ballroom Dance Studio\, 111 Medical Drive\, Carmel\, IN\, 46032\, United States
ORGANIZER;CN="BOLD Benefits of Learning Dance":MAILTO:5678bolddance@gmail.com
END:VEVENT
BEGIN:VEVENT
DTSTART;TZID=America/Indiana/Indianapolis:20260817T170000
DTEND;TZID=America/Indiana/Indianapolis:20260817T180000
DTSTAMP:20260423T081728
CREATED:20250302T172614Z
LAST-MODIFIED:20260226T194246Z
UID:10000346-1786986000-1786989600@bolddance.org
SUMMARY:Monday Group Class
DESCRIPTION:Monday Group Class – Open to all levels.
URL:https://bolddance.org/event/monday-group-class/2026-08-17/
LOCATION:Carmel Ballroom Dance Studio\, 111 Medical Drive\, Carmel\, IN\, 46032\, United States
ORGANIZER;CN="BOLD Benefits of Learning Dance":MAILTO:5678bolddance@gmail.com
END:VEVENT
BEGIN:VEVENT
DTSTART;TZID=America/Indiana/Indianapolis:20260824T170000
DTEND;TZID=America/Indiana/Indianapolis:20260824T180000
DTSTAMP:20260423T081728
CREATED:20250302T172614Z
LAST-MODIFIED:20260226T194246Z
UID:10000347-1787590800-1787594400@bolddance.org
SUMMARY:Monday Group Class
DESCRIPTION:Monday Group Class – Open to all levels.
URL:https://bolddance.org/event/monday-group-class/2026-08-24/
LOCATION:Carmel Ballroom Dance Studio\, 111 Medical Drive\, Carmel\, IN\, 46032\, United States
ORGANIZER;CN="BOLD Benefits of Learning Dance":MAILTO:5678bolddance@gmail.com
END:VEVENT
BEGIN:VEVENT
DTSTART;TZID=America/Indiana/Indianapolis:20260831T170000
DTEND;TZID=America/Indiana/Indianapolis:20260831T180000
DTSTAMP:20260423T081728
CREATED:20250302T172614Z
LAST-MODIFIED:20260226T194246Z
UID:10000348-1788195600-1788199200@bolddance.org
SUMMARY:Monday Group Class
DESCRIPTION:Monday Group Class – Open to all levels.
URL:https://bolddance.org/event/monday-group-class/2026-08-31/
LOCATION:Carmel Ballroom Dance Studio\, 111 Medical Drive\, Carmel\, IN\, 46032\, United States
ORGANIZER;CN="BOLD Benefits of Learning Dance":MAILTO:5678bolddance@gmail.com
END:VEVENT
BEGIN:VEVENT
DTSTART;TZID=America/Indiana/Indianapolis:20260914T170000
DTEND;TZID=America/Indiana/Indianapolis:20260914T180000
DTSTAMP:20260423T081728
CREATED:20250302T172614Z
LAST-MODIFIED:20260226T194246Z
UID:10000350-1789405200-1789408800@bolddance.org
SUMMARY:Monday Group Class
DESCRIPTION:Monday Group Class – Open to all levels.
URL:https://bolddance.org/event/monday-group-class/2026-09-14/
LOCATION:Carmel Ballroom Dance Studio\, 111 Medical Drive\, Carmel\, IN\, 46032\, United States
ORGANIZER;CN="BOLD Benefits of Learning Dance":MAILTO:5678bolddance@gmail.com
END:VEVENT
BEGIN:VEVENT
DTSTART;TZID=America/Indiana/Indianapolis:20260921T170000
DTEND;TZID=America/Indiana/Indianapolis:20260921T180000
DTSTAMP:20260423T081728
CREATED:20250302T172614Z
LAST-MODIFIED:20260226T194246Z
UID:10000351-1790010000-1790013600@bolddance.org
SUMMARY:Monday Group Class
DESCRIPTION:Monday Group Class – Open to all levels.
URL:https://bolddance.org/event/monday-group-class/2026-09-21/
LOCATION:Carmel Ballroom Dance Studio\, 111 Medical Drive\, Carmel\, IN\, 46032\, United States
ORGANIZER;CN="BOLD Benefits of Learning Dance":MAILTO:5678bolddance@gmail.com
END:VEVENT
BEGIN:VEVENT
DTSTART;TZID=America/Indiana/Indianapolis:20260928T170000
DTEND;TZID=America/Indiana/Indianapolis:20260928T180000
DTSTAMP:20260423T081728
CREATED:20250302T172614Z
LAST-MODIFIED:20260226T194246Z
UID:10000352-1790614800-1790618400@bolddance.org
SUMMARY:Monday Group Class
DESCRIPTION:Monday Group Class – Open to all levels.
URL:https://bolddance.org/event/monday-group-class/2026-09-28/
LOCATION:Carmel Ballroom Dance Studio\, 111 Medical Drive\, Carmel\, IN\, 46032\, United States
ORGANIZER;CN="BOLD Benefits of Learning Dance":MAILTO:5678bolddance@gmail.com
END:VEVENT
BEGIN:VEVENT
DTSTART;TZID=America/Indiana/Indianapolis:20261005T170000
DTEND;TZID=America/Indiana/Indianapolis:20261005T180000
DTSTAMP:20260423T081728
CREATED:20250302T172614Z
LAST-MODIFIED:20260226T194246Z
UID:10000353-1791219600-1791223200@bolddance.org
SUMMARY:Monday Group Class
DESCRIPTION:Monday Group Class – Open to all levels.
URL:https://bolddance.org/event/monday-group-class/2026-10-05/
LOCATION:Carmel Ballroom Dance Studio\, 111 Medical Drive\, Carmel\, IN\, 46032\, United States
ORGANIZER;CN="BOLD Benefits of Learning Dance":MAILTO:5678bolddance@gmail.com
END:VEVENT
BEGIN:VEVENT
DTSTART;TZID=America/Indiana/Indianapolis:20261012T170000
DTEND;TZID=America/Indiana/Indianapolis:20261012T180000
DTSTAMP:20260423T081728
CREATED:20250302T172614Z
LAST-MODIFIED:20260226T194246Z
UID:10000354-1791824400-1791828000@bolddance.org
SUMMARY:Monday Group Class
DESCRIPTION:Monday Group Class – Open to all levels.
URL:https://bolddance.org/event/monday-group-class/2026-10-12/
LOCATION:Carmel Ballroom Dance Studio\, 111 Medical Drive\, Carmel\, IN\, 46032\, United States
ORGANIZER;CN="BOLD Benefits of Learning Dance":MAILTO:5678bolddance@gmail.com
END:VEVENT
BEGIN:VEVENT
DTSTART;TZID=America/Indiana/Indianapolis:20261019T170000
DTEND;TZID=America/Indiana/Indianapolis:20261019T180000
DTSTAMP:20260423T081728
CREATED:20250302T172614Z
LAST-MODIFIED:20260226T194246Z
UID:10000355-1792429200-1792432800@bolddance.org
SUMMARY:Monday Group Class
DESCRIPTION:Monday Group Class – Open to all levels.
URL:https://bolddance.org/event/monday-group-class/2026-10-19/
LOCATION:Carmel Ballroom Dance Studio\, 111 Medical Drive\, Carmel\, IN\, 46032\, United States
ORGANIZER;CN="BOLD Benefits of Learning Dance":MAILTO:5678bolddance@gmail.com
END:VEVENT
BEGIN:VEVENT
DTSTART;TZID=America/Indiana/Indianapolis:20261026T170000
DTEND;TZID=America/Indiana/Indianapolis:20261026T180000
DTSTAMP:20260423T081728
CREATED:20250302T172614Z
LAST-MODIFIED:20260226T194246Z
UID:10000356-1793034000-1793037600@bolddance.org
SUMMARY:Monday Group Class
DESCRIPTION:Monday Group Class – Open to all levels.
URL:https://bolddance.org/event/monday-group-class/2026-10-26/
LOCATION:Carmel Ballroom Dance Studio\, 111 Medical Drive\, Carmel\, IN\, 46032\, United States
ORGANIZER;CN="BOLD Benefits of Learning Dance":MAILTO:5678bolddance@gmail.com
END:VEVENT
BEGIN:VEVENT
DTSTART;TZID=America/Indiana/Indianapolis:20261102T170000
DTEND;TZID=America/Indiana/Indianapolis:20261102T180000
DTSTAMP:20260423T081728
CREATED:20250302T172614Z
LAST-MODIFIED:20260226T194246Z
UID:10000357-1793638800-1793642400@bolddance.org
SUMMARY:Monday Group Class
DESCRIPTION:Monday Group Class – Open to all levels.
URL:https://bolddance.org/event/monday-group-class/2026-11-02/
LOCATION:Carmel Ballroom Dance Studio\, 111 Medical Drive\, Carmel\, IN\, 46032\, United States
ORGANIZER;CN="BOLD Benefits of Learning Dance":MAILTO:5678bolddance@gmail.com
END:VEVENT
BEGIN:VEVENT
DTSTART;TZID=America/Indiana/Indianapolis:20261109T170000
DTEND;TZID=America/Indiana/Indianapolis:20261109T180000
DTSTAMP:20260423T081728
CREATED:20250302T172614Z
LAST-MODIFIED:20260226T194246Z
UID:10000358-1794243600-1794247200@bolddance.org
SUMMARY:Monday Group Class
DESCRIPTION:Monday Group Class – Open to all levels.
URL:https://bolddance.org/event/monday-group-class/2026-11-09/
LOCATION:Carmel Ballroom Dance Studio\, 111 Medical Drive\, Carmel\, IN\, 46032\, United States
ORGANIZER;CN="BOLD Benefits of Learning Dance":MAILTO:5678bolddance@gmail.com
END:VEVENT
BEGIN:VEVENT
DTSTART;TZID=America/Indiana/Indianapolis:20261116T170000
DTEND;TZID=America/Indiana/Indianapolis:20261116T180000
DTSTAMP:20260423T081728
CREATED:20250302T172614Z
LAST-MODIFIED:20260226T194246Z
UID:10000359-1794848400-1794852000@bolddance.org
SUMMARY:Monday Group Class
DESCRIPTION:Monday Group Class – Open to all levels.
URL:https://bolddance.org/event/monday-group-class/2026-11-16/
LOCATION:Carmel Ballroom Dance Studio\, 111 Medical Drive\, Carmel\, IN\, 46032\, United States
ORGANIZER;CN="BOLD Benefits of Learning Dance":MAILTO:5678bolddance@gmail.com
END:VEVENT
BEGIN:VEVENT
DTSTART;TZID=America/Indiana/Indianapolis:20261123T170000
DTEND;TZID=America/Indiana/Indianapolis:20261123T180000
DTSTAMP:20260423T081728
CREATED:20250302T172614Z
LAST-MODIFIED:20260226T194246Z
UID:10000360-1795453200-1795456800@bolddance.org
SUMMARY:Monday Group Class
DESCRIPTION:Monday Group Class – Open to all levels.
URL:https://bolddance.org/event/monday-group-class/2026-11-23/
LOCATION:Carmel Ballroom Dance Studio\, 111 Medical Drive\, Carmel\, IN\, 46032\, United States
ORGANIZER;CN="BOLD Benefits of Learning Dance":MAILTO:5678bolddance@gmail.com
END:VEVENT
BEGIN:VEVENT
DTSTART;TZID=America/Indiana/Indianapolis:20261130T170000
DTEND;TZID=America/Indiana/Indianapolis:20261130T180000
DTSTAMP:20260423T081728
CREATED:20250302T172614Z
LAST-MODIFIED:20260226T194246Z
UID:10000361-1796058000-1796061600@bolddance.org
SUMMARY:Monday Group Class
DESCRIPTION:Monday Group Class – Open to all levels.
URL:https://bolddance.org/event/monday-group-class/2026-11-30/
LOCATION:Carmel Ballroom Dance Studio\, 111 Medical Drive\, Carmel\, IN\, 46032\, United States
ORGANIZER;CN="BOLD Benefits of Learning Dance":MAILTO:5678bolddance@gmail.com
END:VEVENT
END:VCALENDAR