BEGIN:VCALENDAR
VERSION:2.0
PRODID:-//BOLD Dance - ECPv6.15.20//NONSGML v1.0//EN
CALSCALE:GREGORIAN
METHOD:PUBLISH
X-WR-CALNAME:BOLD Dance
X-ORIGINAL-URL:https://bolddance.org
X-WR-CALDESC:Events for BOLD Dance
REFRESH-INTERVAL;VALUE=DURATION:PT1H
X-Robots-Tag:noindex
X-PUBLISHED-TTL:PT1H
BEGIN:VTIMEZONE
TZID:America/Indiana/Indianapolis
BEGIN:DAYLIGHT
TZOFFSETFROM:-0500
TZOFFSETTO:-0400
TZNAME:EDT
DTSTART:20250309T070000
END:DAYLIGHT
BEGIN:STANDARD
TZOFFSETFROM:-0400
TZOFFSETTO:-0500
TZNAME:EST
DTSTART:20251102T060000
END:STANDARD
BEGIN:DAYLIGHT
TZOFFSETFROM:-0500
TZOFFSETTO:-0400
TZNAME:EDT
DTSTART:20260308T070000
END:DAYLIGHT
BEGIN:STANDARD
TZOFFSETFROM:-0400
TZOFFSETTO:-0500
TZNAME:EST
DTSTART:20261101T060000
END:STANDARD
BEGIN:DAYLIGHT
TZOFFSETFROM:-0500
TZOFFSETTO:-0400
TZNAME:EDT
DTSTART:20270314T070000
END:DAYLIGHT
BEGIN:STANDARD
TZOFFSETFROM:-0400
TZOFFSETTO:-0500
TZNAME:EST
DTSTART:20271107T060000
END:STANDARD
END:VTIMEZONE
BEGIN:VEVENT
DTSTART;TZID=America/Indiana/Indianapolis:20260423T170000
DTEND;TZID=America/Indiana/Indianapolis:20260423T180000
DTSTAMP:20260423T081841
CREATED:20250302T173857Z
LAST-MODIFIED:20251227T185246Z
UID:10000231-1776963600-1776967200@bolddance.org
SUMMARY:Thursday Group Class
DESCRIPTION:Thursday Group Class – Open to all levels.
URL:https://bolddance.org/event/thursday-group-class-2/2026-04-23/
LOCATION:Carmel Ballroom Dance Studio\, 111 Medical Drive\, Carmel\, IN\, 46032\, United States
ORGANIZER;CN="BOLD Benefits of Learning Dance":MAILTO:5678bolddance@gmail.com
END:VEVENT
BEGIN:VEVENT
DTSTART;TZID=America/Indiana/Indianapolis:20260430T170000
DTEND;TZID=America/Indiana/Indianapolis:20260430T180000
DTSTAMP:20260423T081841
CREATED:20250302T173857Z
LAST-MODIFIED:20251227T185246Z
UID:10000232-1777568400-1777572000@bolddance.org
SUMMARY:Thursday Group Class
DESCRIPTION:Thursday Group Class – Open to all levels.
URL:https://bolddance.org/event/thursday-group-class-2/2026-04-30/
LOCATION:Carmel Ballroom Dance Studio\, 111 Medical Drive\, Carmel\, IN\, 46032\, United States
ORGANIZER;CN="BOLD Benefits of Learning Dance":MAILTO:5678bolddance@gmail.com
END:VEVENT
BEGIN:VEVENT
DTSTART;TZID=America/Indiana/Indianapolis:20260507T170000
DTEND;TZID=America/Indiana/Indianapolis:20260507T180000
DTSTAMP:20260423T081841
CREATED:20250302T173857Z
LAST-MODIFIED:20251227T185246Z
UID:10000233-1778173200-1778176800@bolddance.org
SUMMARY:Thursday Group Class
DESCRIPTION:Thursday Group Class – Open to all levels.
URL:https://bolddance.org/event/thursday-group-class-2/2026-05-07/
LOCATION:Carmel Ballroom Dance Studio\, 111 Medical Drive\, Carmel\, IN\, 46032\, United States
ORGANIZER;CN="BOLD Benefits of Learning Dance":MAILTO:5678bolddance@gmail.com
END:VEVENT
BEGIN:VEVENT
DTSTART;TZID=America/Indiana/Indianapolis:20260514T170000
DTEND;TZID=America/Indiana/Indianapolis:20260514T180000
DTSTAMP:20260423T081841
CREATED:20250302T173857Z
LAST-MODIFIED:20251227T185246Z
UID:10000234-1778778000-1778781600@bolddance.org
SUMMARY:Thursday Group Class
DESCRIPTION:Thursday Group Class – Open to all levels.
URL:https://bolddance.org/event/thursday-group-class-2/2026-05-14/
LOCATION:Carmel Ballroom Dance Studio\, 111 Medical Drive\, Carmel\, IN\, 46032\, United States
ORGANIZER;CN="BOLD Benefits of Learning Dance":MAILTO:5678bolddance@gmail.com
END:VEVENT
BEGIN:VEVENT
DTSTART;TZID=America/Indiana/Indianapolis:20260521T170000
DTEND;TZID=America/Indiana/Indianapolis:20260521T180000
DTSTAMP:20260423T081841
CREATED:20250302T173857Z
LAST-MODIFIED:20251227T185246Z
UID:10000235-1779382800-1779386400@bolddance.org
SUMMARY:Thursday Group Class
DESCRIPTION:Thursday Group Class – Open to all levels.
URL:https://bolddance.org/event/thursday-group-class-2/2026-05-21/
LOCATION:Carmel Ballroom Dance Studio\, 111 Medical Drive\, Carmel\, IN\, 46032\, United States
ORGANIZER;CN="BOLD Benefits of Learning Dance":MAILTO:5678bolddance@gmail.com
END:VEVENT
BEGIN:VEVENT
DTSTART;TZID=America/Indiana/Indianapolis:20260528T170000
DTEND;TZID=America/Indiana/Indianapolis:20260528T180000
DTSTAMP:20260423T081841
CREATED:20250302T173857Z
LAST-MODIFIED:20251227T185246Z
UID:10000236-1779987600-1779991200@bolddance.org
SUMMARY:Thursday Group Class
DESCRIPTION:Thursday Group Class – Open to all levels.
URL:https://bolddance.org/event/thursday-group-class-2/2026-05-28/
LOCATION:Carmel Ballroom Dance Studio\, 111 Medical Drive\, Carmel\, IN\, 46032\, United States
ORGANIZER;CN="BOLD Benefits of Learning Dance":MAILTO:5678bolddance@gmail.com
END:VEVENT
BEGIN:VEVENT
DTSTART;TZID=America/Indiana/Indianapolis:20260604T170000
DTEND;TZID=America/Indiana/Indianapolis:20260604T180000
DTSTAMP:20260423T081841
CREATED:20250302T173857Z
LAST-MODIFIED:20251227T185246Z
UID:10000237-1780592400-1780596000@bolddance.org
SUMMARY:Thursday Group Class
DESCRIPTION:Thursday Group Class – Open to all levels.
URL:https://bolddance.org/event/thursday-group-class-2/2026-06-04/
LOCATION:Carmel Ballroom Dance Studio\, 111 Medical Drive\, Carmel\, IN\, 46032\, United States
ORGANIZER;CN="BOLD Benefits of Learning Dance":MAILTO:5678bolddance@gmail.com
END:VEVENT
BEGIN:VEVENT
DTSTART;TZID=America/Indiana/Indianapolis:20260611T170000
DTEND;TZID=America/Indiana/Indianapolis:20260611T180000
DTSTAMP:20260423T081841
CREATED:20250302T173857Z
LAST-MODIFIED:20251227T185246Z
UID:10000238-1781197200-1781200800@bolddance.org
SUMMARY:Thursday Group Class
DESCRIPTION:Thursday Group Class – Open to all levels.
URL:https://bolddance.org/event/thursday-group-class-2/2026-06-11/
LOCATION:Carmel Ballroom Dance Studio\, 111 Medical Drive\, Carmel\, IN\, 46032\, United States
ORGANIZER;CN="BOLD Benefits of Learning Dance":MAILTO:5678bolddance@gmail.com
END:VEVENT
BEGIN:VEVENT
DTSTART;TZID=America/Indiana/Indianapolis:20260618T170000
DTEND;TZID=America/Indiana/Indianapolis:20260618T180000
DTSTAMP:20260423T081841
CREATED:20250302T173857Z
LAST-MODIFIED:20251227T185246Z
UID:10000239-1781802000-1781805600@bolddance.org
SUMMARY:Thursday Group Class
DESCRIPTION:Thursday Group Class – Open to all levels.
URL:https://bolddance.org/event/thursday-group-class-2/2026-06-18/
LOCATION:Carmel Ballroom Dance Studio\, 111 Medical Drive\, Carmel\, IN\, 46032\, United States
ORGANIZER;CN="BOLD Benefits of Learning Dance":MAILTO:5678bolddance@gmail.com
END:VEVENT
BEGIN:VEVENT
DTSTART;TZID=America/Indiana/Indianapolis:20260625T170000
DTEND;TZID=America/Indiana/Indianapolis:20260625T180000
DTSTAMP:20260423T081841
CREATED:20250302T173857Z
LAST-MODIFIED:20251227T185246Z
UID:10000240-1782406800-1782410400@bolddance.org
SUMMARY:Thursday Group Class
DESCRIPTION:Thursday Group Class – Open to all levels.
URL:https://bolddance.org/event/thursday-group-class-2/2026-06-25/
LOCATION:Carmel Ballroom Dance Studio\, 111 Medical Drive\, Carmel\, IN\, 46032\, United States
ORGANIZER;CN="BOLD Benefits of Learning Dance":MAILTO:5678bolddance@gmail.com
END:VEVENT
BEGIN:VEVENT
DTSTART;TZID=America/Indiana/Indianapolis:20260702T170000
DTEND;TZID=America/Indiana/Indianapolis:20260702T180000
DTSTAMP:20260423T081841
CREATED:20250302T173857Z
LAST-MODIFIED:20251227T185246Z
UID:10000241-1783011600-1783015200@bolddance.org
SUMMARY:Thursday Group Class
DESCRIPTION:Thursday Group Class – Open to all levels.
URL:https://bolddance.org/event/thursday-group-class-2/2026-07-02/
LOCATION:Carmel Ballroom Dance Studio\, 111 Medical Drive\, Carmel\, IN\, 46032\, United States
ORGANIZER;CN="BOLD Benefits of Learning Dance":MAILTO:5678bolddance@gmail.com
END:VEVENT
BEGIN:VEVENT
DTSTART;TZID=America/Indiana/Indianapolis:20260709T170000
DTEND;TZID=America/Indiana/Indianapolis:20260709T180000
DTSTAMP:20260423T081841
CREATED:20250302T173857Z
LAST-MODIFIED:20251227T185246Z
UID:10000242-1783616400-1783620000@bolddance.org
SUMMARY:Thursday Group Class
DESCRIPTION:Thursday Group Class – Open to all levels.
URL:https://bolddance.org/event/thursday-group-class-2/2026-07-09/
LOCATION:Carmel Ballroom Dance Studio\, 111 Medical Drive\, Carmel\, IN\, 46032\, United States
ORGANIZER;CN="BOLD Benefits of Learning Dance":MAILTO:5678bolddance@gmail.com
END:VEVENT
BEGIN:VEVENT
DTSTART;TZID=America/Indiana/Indianapolis:20260716T170000
DTEND;TZID=America/Indiana/Indianapolis:20260716T180000
DTSTAMP:20260423T081841
CREATED:20250302T173857Z
LAST-MODIFIED:20251227T185246Z
UID:10000243-1784221200-1784224800@bolddance.org
SUMMARY:Thursday Group Class
DESCRIPTION:Thursday Group Class – Open to all levels.
URL:https://bolddance.org/event/thursday-group-class-2/2026-07-16/
LOCATION:Carmel Ballroom Dance Studio\, 111 Medical Drive\, Carmel\, IN\, 46032\, United States
ORGANIZER;CN="BOLD Benefits of Learning Dance":MAILTO:5678bolddance@gmail.com
END:VEVENT
BEGIN:VEVENT
DTSTART;TZID=America/Indiana/Indianapolis:20260723T170000
DTEND;TZID=America/Indiana/Indianapolis:20260723T180000
DTSTAMP:20260423T081841
CREATED:20250302T173857Z
LAST-MODIFIED:20251227T185246Z
UID:10000244-1784826000-1784829600@bolddance.org
SUMMARY:Thursday Group Class
DESCRIPTION:Thursday Group Class – Open to all levels.
URL:https://bolddance.org/event/thursday-group-class-2/2026-07-23/
LOCATION:Carmel Ballroom Dance Studio\, 111 Medical Drive\, Carmel\, IN\, 46032\, United States
ORGANIZER;CN="BOLD Benefits of Learning Dance":MAILTO:5678bolddance@gmail.com
END:VEVENT
BEGIN:VEVENT
DTSTART;TZID=America/Indiana/Indianapolis:20260730T170000
DTEND;TZID=America/Indiana/Indianapolis:20260730T180000
DTSTAMP:20260423T081841
CREATED:20250302T173857Z
LAST-MODIFIED:20251227T185246Z
UID:10000245-1785430800-1785434400@bolddance.org
SUMMARY:Thursday Group Class
DESCRIPTION:Thursday Group Class – Open to all levels.
URL:https://bolddance.org/event/thursday-group-class-2/2026-07-30/
LOCATION:Carmel Ballroom Dance Studio\, 111 Medical Drive\, Carmel\, IN\, 46032\, United States
ORGANIZER;CN="BOLD Benefits of Learning Dance":MAILTO:5678bolddance@gmail.com
END:VEVENT
BEGIN:VEVENT
DTSTART;TZID=America/Indiana/Indianapolis:20260806T170000
DTEND;TZID=America/Indiana/Indianapolis:20260806T180000
DTSTAMP:20260423T081841
CREATED:20250302T173857Z
LAST-MODIFIED:20251227T185246Z
UID:10000246-1786035600-1786039200@bolddance.org
SUMMARY:Thursday Group Class
DESCRIPTION:Thursday Group Class – Open to all levels.
URL:https://bolddance.org/event/thursday-group-class-2/2026-08-06/
LOCATION:Carmel Ballroom Dance Studio\, 111 Medical Drive\, Carmel\, IN\, 46032\, United States
ORGANIZER;CN="BOLD Benefits of Learning Dance":MAILTO:5678bolddance@gmail.com
END:VEVENT
BEGIN:VEVENT
DTSTART;TZID=America/Indiana/Indianapolis:20260813T170000
DTEND;TZID=America/Indiana/Indianapolis:20260813T180000
DTSTAMP:20260423T081841
CREATED:20250302T173857Z
LAST-MODIFIED:20251227T185246Z
UID:10000247-1786640400-1786644000@bolddance.org
SUMMARY:Thursday Group Class
DESCRIPTION:Thursday Group Class – Open to all levels.
URL:https://bolddance.org/event/thursday-group-class-2/2026-08-13/
LOCATION:Carmel Ballroom Dance Studio\, 111 Medical Drive\, Carmel\, IN\, 46032\, United States
ORGANIZER;CN="BOLD Benefits of Learning Dance":MAILTO:5678bolddance@gmail.com
END:VEVENT
BEGIN:VEVENT
DTSTART;TZID=America/Indiana/Indianapolis:20260820T170000
DTEND;TZID=America/Indiana/Indianapolis:20260820T180000
DTSTAMP:20260423T081841
CREATED:20250302T173857Z
LAST-MODIFIED:20251227T185246Z
UID:10000248-1787245200-1787248800@bolddance.org
SUMMARY:Thursday Group Class
DESCRIPTION:Thursday Group Class – Open to all levels.
URL:https://bolddance.org/event/thursday-group-class-2/2026-08-20/
LOCATION:Carmel Ballroom Dance Studio\, 111 Medical Drive\, Carmel\, IN\, 46032\, United States
ORGANIZER;CN="BOLD Benefits of Learning Dance":MAILTO:5678bolddance@gmail.com
END:VEVENT
BEGIN:VEVENT
DTSTART;TZID=America/Indiana/Indianapolis:20260827T170000
DTEND;TZID=America/Indiana/Indianapolis:20260827T180000
DTSTAMP:20260423T081841
CREATED:20250302T173857Z
LAST-MODIFIED:20251227T185246Z
UID:10000249-1787850000-1787853600@bolddance.org
SUMMARY:Thursday Group Class
DESCRIPTION:Thursday Group Class – Open to all levels.
URL:https://bolddance.org/event/thursday-group-class-2/2026-08-27/
LOCATION:Carmel Ballroom Dance Studio\, 111 Medical Drive\, Carmel\, IN\, 46032\, United States
ORGANIZER;CN="BOLD Benefits of Learning Dance":MAILTO:5678bolddance@gmail.com
END:VEVENT
BEGIN:VEVENT
DTSTART;TZID=America/Indiana/Indianapolis:20260903T170000
DTEND;TZID=America/Indiana/Indianapolis:20260903T180000
DTSTAMP:20260423T081841
CREATED:20250302T173857Z
LAST-MODIFIED:20251227T185246Z
UID:10000250-1788454800-1788458400@bolddance.org
SUMMARY:Thursday Group Class
DESCRIPTION:Thursday Group Class – Open to all levels.
URL:https://bolddance.org/event/thursday-group-class-2/2026-09-03/
LOCATION:Carmel Ballroom Dance Studio\, 111 Medical Drive\, Carmel\, IN\, 46032\, United States
ORGANIZER;CN="BOLD Benefits of Learning Dance":MAILTO:5678bolddance@gmail.com
END:VEVENT
BEGIN:VEVENT
DTSTART;TZID=America/Indiana/Indianapolis:20260910T170000
DTEND;TZID=America/Indiana/Indianapolis:20260910T180000
DTSTAMP:20260423T081841
CREATED:20250302T173857Z
LAST-MODIFIED:20251227T185246Z
UID:10000251-1789059600-1789063200@bolddance.org
SUMMARY:Thursday Group Class
DESCRIPTION:Thursday Group Class – Open to all levels.
URL:https://bolddance.org/event/thursday-group-class-2/2026-09-10/
LOCATION:Carmel Ballroom Dance Studio\, 111 Medical Drive\, Carmel\, IN\, 46032\, United States
ORGANIZER;CN="BOLD Benefits of Learning Dance":MAILTO:5678bolddance@gmail.com
END:VEVENT
BEGIN:VEVENT
DTSTART;TZID=America/Indiana/Indianapolis:20260917T170000
DTEND;TZID=America/Indiana/Indianapolis:20260917T180000
DTSTAMP:20260423T081841
CREATED:20250302T173857Z
LAST-MODIFIED:20251227T185246Z
UID:10000252-1789664400-1789668000@bolddance.org
SUMMARY:Thursday Group Class
DESCRIPTION:Thursday Group Class – Open to all levels.
URL:https://bolddance.org/event/thursday-group-class-2/2026-09-17/
LOCATION:Carmel Ballroom Dance Studio\, 111 Medical Drive\, Carmel\, IN\, 46032\, United States
ORGANIZER;CN="BOLD Benefits of Learning Dance":MAILTO:5678bolddance@gmail.com
END:VEVENT
BEGIN:VEVENT
DTSTART;TZID=America/Indiana/Indianapolis:20260924T170000
DTEND;TZID=America/Indiana/Indianapolis:20260924T180000
DTSTAMP:20260423T081841
CREATED:20250302T173857Z
LAST-MODIFIED:20251227T185246Z
UID:10000253-1790269200-1790272800@bolddance.org
SUMMARY:Thursday Group Class
DESCRIPTION:Thursday Group Class – Open to all levels.
URL:https://bolddance.org/event/thursday-group-class-2/2026-09-24/
LOCATION:Carmel Ballroom Dance Studio\, 111 Medical Drive\, Carmel\, IN\, 46032\, United States
ORGANIZER;CN="BOLD Benefits of Learning Dance":MAILTO:5678bolddance@gmail.com
END:VEVENT
BEGIN:VEVENT
DTSTART;TZID=America/Indiana/Indianapolis:20261001T170000
DTEND;TZID=America/Indiana/Indianapolis:20261001T180000
DTSTAMP:20260423T081841
CREATED:20250302T173857Z
LAST-MODIFIED:20251227T185246Z
UID:10000254-1790874000-1790877600@bolddance.org
SUMMARY:Thursday Group Class
DESCRIPTION:Thursday Group Class – Open to all levels.
URL:https://bolddance.org/event/thursday-group-class-2/2026-10-01/
LOCATION:Carmel Ballroom Dance Studio\, 111 Medical Drive\, Carmel\, IN\, 46032\, United States
ORGANIZER;CN="BOLD Benefits of Learning Dance":MAILTO:5678bolddance@gmail.com
END:VEVENT
BEGIN:VEVENT
DTSTART;TZID=America/Indiana/Indianapolis:20261008T170000
DTEND;TZID=America/Indiana/Indianapolis:20261008T180000
DTSTAMP:20260423T081841
CREATED:20250302T173857Z
LAST-MODIFIED:20251227T185246Z
UID:10000255-1791478800-1791482400@bolddance.org
SUMMARY:Thursday Group Class
DESCRIPTION:Thursday Group Class – Open to all levels.
URL:https://bolddance.org/event/thursday-group-class-2/2026-10-08/
LOCATION:Carmel Ballroom Dance Studio\, 111 Medical Drive\, Carmel\, IN\, 46032\, United States
ORGANIZER;CN="BOLD Benefits of Learning Dance":MAILTO:5678bolddance@gmail.com
END:VEVENT
BEGIN:VEVENT
DTSTART;TZID=America/Indiana/Indianapolis:20261015T170000
DTEND;TZID=America/Indiana/Indianapolis:20261015T180000
DTSTAMP:20260423T081841
CREATED:20250302T173857Z
LAST-MODIFIED:20251227T185246Z
UID:10000256-1792083600-1792087200@bolddance.org
SUMMARY:Thursday Group Class
DESCRIPTION:Thursday Group Class – Open to all levels.
URL:https://bolddance.org/event/thursday-group-class-2/2026-10-15/
LOCATION:Carmel Ballroom Dance Studio\, 111 Medical Drive\, Carmel\, IN\, 46032\, United States
ORGANIZER;CN="BOLD Benefits of Learning Dance":MAILTO:5678bolddance@gmail.com
END:VEVENT
BEGIN:VEVENT
DTSTART;TZID=America/Indiana/Indianapolis:20261022T170000
DTEND;TZID=America/Indiana/Indianapolis:20261022T180000
DTSTAMP:20260423T081841
CREATED:20250302T173857Z
LAST-MODIFIED:20251227T185246Z
UID:10000257-1792688400-1792692000@bolddance.org
SUMMARY:Thursday Group Class
DESCRIPTION:Thursday Group Class – Open to all levels.
URL:https://bolddance.org/event/thursday-group-class-2/2026-10-22/
LOCATION:Carmel Ballroom Dance Studio\, 111 Medical Drive\, Carmel\, IN\, 46032\, United States
ORGANIZER;CN="BOLD Benefits of Learning Dance":MAILTO:5678bolddance@gmail.com
END:VEVENT
BEGIN:VEVENT
DTSTART;TZID=America/Indiana/Indianapolis:20261029T170000
DTEND;TZID=America/Indiana/Indianapolis:20261029T180000
DTSTAMP:20260423T081841
CREATED:20250302T173857Z
LAST-MODIFIED:20251227T185246Z
UID:10000258-1793293200-1793296800@bolddance.org
SUMMARY:Thursday Group Class
DESCRIPTION:Thursday Group Class – Open to all levels.
URL:https://bolddance.org/event/thursday-group-class-2/2026-10-29/
LOCATION:Carmel Ballroom Dance Studio\, 111 Medical Drive\, Carmel\, IN\, 46032\, United States
ORGANIZER;CN="BOLD Benefits of Learning Dance":MAILTO:5678bolddance@gmail.com
END:VEVENT
BEGIN:VEVENT
DTSTART;TZID=America/Indiana/Indianapolis:20261105T170000
DTEND;TZID=America/Indiana/Indianapolis:20261105T180000
DTSTAMP:20260423T081841
CREATED:20250302T173857Z
LAST-MODIFIED:20251227T185246Z
UID:10000259-1793898000-1793901600@bolddance.org
SUMMARY:Thursday Group Class
DESCRIPTION:Thursday Group Class – Open to all levels.
URL:https://bolddance.org/event/thursday-group-class-2/2026-11-05/
LOCATION:Carmel Ballroom Dance Studio\, 111 Medical Drive\, Carmel\, IN\, 46032\, United States
ORGANIZER;CN="BOLD Benefits of Learning Dance":MAILTO:5678bolddance@gmail.com
END:VEVENT
BEGIN:VEVENT
DTSTART;TZID=America/Indiana/Indianapolis:20261112T170000
DTEND;TZID=America/Indiana/Indianapolis:20261112T180000
DTSTAMP:20260423T081841
CREATED:20250302T173857Z
LAST-MODIFIED:20251227T185246Z
UID:10000260-1794502800-1794506400@bolddance.org
SUMMARY:Thursday Group Class
DESCRIPTION:Thursday Group Class – Open to all levels.
URL:https://bolddance.org/event/thursday-group-class-2/2026-11-12/
LOCATION:Carmel Ballroom Dance Studio\, 111 Medical Drive\, Carmel\, IN\, 46032\, United States
ORGANIZER;CN="BOLD Benefits of Learning Dance":MAILTO:5678bolddance@gmail.com
END:VEVENT
END:VCALENDAR