BEGIN:VCALENDAR
VERSION:2.0
PRODID:-//BOLD Dance - ECPv6.15.20//NONSGML v1.0//EN
CALSCALE:GREGORIAN
METHOD:PUBLISH
X-WR-CALNAME:BOLD Dance
X-ORIGINAL-URL:https://bolddance.org
X-WR-CALDESC:Events for BOLD Dance
REFRESH-INTERVAL;VALUE=DURATION:PT1H
X-Robots-Tag:noindex
X-PUBLISHED-TTL:PT1H
BEGIN:VTIMEZONE
TZID:America/Indiana/Indianapolis
BEGIN:DAYLIGHT
TZOFFSETFROM:-0500
TZOFFSETTO:-0400
TZNAME:EDT
DTSTART:20250309T070000
END:DAYLIGHT
BEGIN:STANDARD
TZOFFSETFROM:-0400
TZOFFSETTO:-0500
TZNAME:EST
DTSTART:20251102T060000
END:STANDARD
BEGIN:DAYLIGHT
TZOFFSETFROM:-0500
TZOFFSETTO:-0400
TZNAME:EDT
DTSTART:20260308T070000
END:DAYLIGHT
BEGIN:STANDARD
TZOFFSETFROM:-0400
TZOFFSETTO:-0500
TZNAME:EST
DTSTART:20261101T060000
END:STANDARD
BEGIN:DAYLIGHT
TZOFFSETFROM:-0500
TZOFFSETTO:-0400
TZNAME:EDT
DTSTART:20270314T070000
END:DAYLIGHT
BEGIN:STANDARD
TZOFFSETFROM:-0400
TZOFFSETTO:-0500
TZNAME:EST
DTSTART:20271107T060000
END:STANDARD
END:VTIMEZONE
BEGIN:VEVENT
DTSTART;TZID=America/Indiana/Indianapolis:20260507T160000
DTEND;TZID=America/Indiana/Indianapolis:20260507T170000
DTSTAMP:20260425T114122
CREATED:20251227T190720Z
LAST-MODIFIED:20251227T190720Z
UID:10000424-1778169600-1778173200@bolddance.org
SUMMARY:Volunteer Dancer Training
DESCRIPTION:This group class is for BOLD VOLUNTEERS ONLY to learn ballroom dance basics to help you as a volunteer with BOLD Benefits of Learning Dance.  Optional $5 donation is appreciated.
URL:https://bolddance.org/event/volunteer-dancer-training-3/2026-05-07/
LOCATION:Carmel Ballroom Dance Studio\, 111 Medical Drive\, Carmel\, IN\, 46032\, United States
ORGANIZER;CN="BOLD Benefits of Learning Dance":MAILTO:5678bolddance@gmail.com
END:VEVENT
BEGIN:VEVENT
DTSTART;TZID=America/Indiana/Indianapolis:20260521T160000
DTEND;TZID=America/Indiana/Indianapolis:20260521T170000
DTSTAMP:20260425T114122
CREATED:20251227T190720Z
LAST-MODIFIED:20251227T190720Z
UID:10000425-1779379200-1779382800@bolddance.org
SUMMARY:Volunteer Dancer Training
DESCRIPTION:This group class is for BOLD VOLUNTEERS ONLY to learn ballroom dance basics to help you as a volunteer with BOLD Benefits of Learning Dance.  Optional $5 donation is appreciated.
URL:https://bolddance.org/event/volunteer-dancer-training-3/2026-05-21/
LOCATION:Carmel Ballroom Dance Studio\, 111 Medical Drive\, Carmel\, IN\, 46032\, United States
ORGANIZER;CN="BOLD Benefits of Learning Dance":MAILTO:5678bolddance@gmail.com
END:VEVENT
BEGIN:VEVENT
DTSTART;TZID=America/Indiana/Indianapolis:20260604T160000
DTEND;TZID=America/Indiana/Indianapolis:20260604T170000
DTSTAMP:20260425T114122
CREATED:20251227T190720Z
LAST-MODIFIED:20251227T190720Z
UID:10000426-1780588800-1780592400@bolddance.org
SUMMARY:Volunteer Dancer Training
DESCRIPTION:This group class is for BOLD VOLUNTEERS ONLY to learn ballroom dance basics to help you as a volunteer with BOLD Benefits of Learning Dance.  Optional $5 donation is appreciated.
URL:https://bolddance.org/event/volunteer-dancer-training-3/2026-06-04/
LOCATION:Carmel Ballroom Dance Studio\, 111 Medical Drive\, Carmel\, IN\, 46032\, United States
ORGANIZER;CN="BOLD Benefits of Learning Dance":MAILTO:5678bolddance@gmail.com
END:VEVENT
BEGIN:VEVENT
DTSTART;TZID=America/Indiana/Indianapolis:20260618T160000
DTEND;TZID=America/Indiana/Indianapolis:20260618T170000
DTSTAMP:20260425T114122
CREATED:20251227T190720Z
LAST-MODIFIED:20251227T190720Z
UID:10000427-1781798400-1781802000@bolddance.org
SUMMARY:Volunteer Dancer Training
DESCRIPTION:This group class is for BOLD VOLUNTEERS ONLY to learn ballroom dance basics to help you as a volunteer with BOLD Benefits of Learning Dance.  Optional $5 donation is appreciated.
URL:https://bolddance.org/event/volunteer-dancer-training-3/2026-06-18/
LOCATION:Carmel Ballroom Dance Studio\, 111 Medical Drive\, Carmel\, IN\, 46032\, United States
ORGANIZER;CN="BOLD Benefits of Learning Dance":MAILTO:5678bolddance@gmail.com
END:VEVENT
BEGIN:VEVENT
DTSTART;TZID=America/Indiana/Indianapolis:20260702T160000
DTEND;TZID=America/Indiana/Indianapolis:20260702T170000
DTSTAMP:20260425T114122
CREATED:20251227T190720Z
LAST-MODIFIED:20251227T190720Z
UID:10000428-1783008000-1783011600@bolddance.org
SUMMARY:Volunteer Dancer Training
DESCRIPTION:This group class is for BOLD VOLUNTEERS ONLY to learn ballroom dance basics to help you as a volunteer with BOLD Benefits of Learning Dance.  Optional $5 donation is appreciated.
URL:https://bolddance.org/event/volunteer-dancer-training-3/2026-07-02/
LOCATION:Carmel Ballroom Dance Studio\, 111 Medical Drive\, Carmel\, IN\, 46032\, United States
ORGANIZER;CN="BOLD Benefits of Learning Dance":MAILTO:5678bolddance@gmail.com
END:VEVENT
BEGIN:VEVENT
DTSTART;TZID=America/Indiana/Indianapolis:20260716T160000
DTEND;TZID=America/Indiana/Indianapolis:20260716T170000
DTSTAMP:20260425T114122
CREATED:20251227T190720Z
LAST-MODIFIED:20251227T190720Z
UID:10000429-1784217600-1784221200@bolddance.org
SUMMARY:Volunteer Dancer Training
DESCRIPTION:This group class is for BOLD VOLUNTEERS ONLY to learn ballroom dance basics to help you as a volunteer with BOLD Benefits of Learning Dance.  Optional $5 donation is appreciated.
URL:https://bolddance.org/event/volunteer-dancer-training-3/2026-07-16/
LOCATION:Carmel Ballroom Dance Studio\, 111 Medical Drive\, Carmel\, IN\, 46032\, United States
ORGANIZER;CN="BOLD Benefits of Learning Dance":MAILTO:5678bolddance@gmail.com
END:VEVENT
BEGIN:VEVENT
DTSTART;TZID=America/Indiana/Indianapolis:20260730T160000
DTEND;TZID=America/Indiana/Indianapolis:20260730T170000
DTSTAMP:20260425T114122
CREATED:20251227T190720Z
LAST-MODIFIED:20251227T190720Z
UID:10000430-1785427200-1785430800@bolddance.org
SUMMARY:Volunteer Dancer Training
DESCRIPTION:This group class is for BOLD VOLUNTEERS ONLY to learn ballroom dance basics to help you as a volunteer with BOLD Benefits of Learning Dance.  Optional $5 donation is appreciated.
URL:https://bolddance.org/event/volunteer-dancer-training-3/2026-07-30/
LOCATION:Carmel Ballroom Dance Studio\, 111 Medical Drive\, Carmel\, IN\, 46032\, United States
ORGANIZER;CN="BOLD Benefits of Learning Dance":MAILTO:5678bolddance@gmail.com
END:VEVENT
BEGIN:VEVENT
DTSTART;TZID=America/Indiana/Indianapolis:20260813T160000
DTEND;TZID=America/Indiana/Indianapolis:20260813T170000
DTSTAMP:20260425T114122
CREATED:20251227T190720Z
LAST-MODIFIED:20251227T190720Z
UID:10000431-1786636800-1786640400@bolddance.org
SUMMARY:Volunteer Dancer Training
DESCRIPTION:This group class is for BOLD VOLUNTEERS ONLY to learn ballroom dance basics to help you as a volunteer with BOLD Benefits of Learning Dance.  Optional $5 donation is appreciated.
URL:https://bolddance.org/event/volunteer-dancer-training-3/2026-08-13/
LOCATION:Carmel Ballroom Dance Studio\, 111 Medical Drive\, Carmel\, IN\, 46032\, United States
ORGANIZER;CN="BOLD Benefits of Learning Dance":MAILTO:5678bolddance@gmail.com
END:VEVENT
BEGIN:VEVENT
DTSTART;TZID=America/Indiana/Indianapolis:20260827T160000
DTEND;TZID=America/Indiana/Indianapolis:20260827T170000
DTSTAMP:20260425T114122
CREATED:20251227T190720Z
LAST-MODIFIED:20251227T190720Z
UID:10000432-1787846400-1787850000@bolddance.org
SUMMARY:Volunteer Dancer Training
DESCRIPTION:This group class is for BOLD VOLUNTEERS ONLY to learn ballroom dance basics to help you as a volunteer with BOLD Benefits of Learning Dance.  Optional $5 donation is appreciated.
URL:https://bolddance.org/event/volunteer-dancer-training-3/2026-08-27/
LOCATION:Carmel Ballroom Dance Studio\, 111 Medical Drive\, Carmel\, IN\, 46032\, United States
ORGANIZER;CN="BOLD Benefits of Learning Dance":MAILTO:5678bolddance@gmail.com
END:VEVENT
BEGIN:VEVENT
DTSTART;TZID=America/Indiana/Indianapolis:20260910T160000
DTEND;TZID=America/Indiana/Indianapolis:20260910T170000
DTSTAMP:20260425T114122
CREATED:20251227T190720Z
LAST-MODIFIED:20251227T190720Z
UID:10000433-1789056000-1789059600@bolddance.org
SUMMARY:Volunteer Dancer Training
DESCRIPTION:This group class is for BOLD VOLUNTEERS ONLY to learn ballroom dance basics to help you as a volunteer with BOLD Benefits of Learning Dance.  Optional $5 donation is appreciated.
URL:https://bolddance.org/event/volunteer-dancer-training-3/2026-09-10/
LOCATION:Carmel Ballroom Dance Studio\, 111 Medical Drive\, Carmel\, IN\, 46032\, United States
ORGANIZER;CN="BOLD Benefits of Learning Dance":MAILTO:5678bolddance@gmail.com
END:VEVENT
BEGIN:VEVENT
DTSTART;TZID=America/Indiana/Indianapolis:20260924T160000
DTEND;TZID=America/Indiana/Indianapolis:20260924T170000
DTSTAMP:20260425T114122
CREATED:20251227T190720Z
LAST-MODIFIED:20251227T190720Z
UID:10000434-1790265600-1790269200@bolddance.org
SUMMARY:Volunteer Dancer Training
DESCRIPTION:This group class is for BOLD VOLUNTEERS ONLY to learn ballroom dance basics to help you as a volunteer with BOLD Benefits of Learning Dance.  Optional $5 donation is appreciated.
URL:https://bolddance.org/event/volunteer-dancer-training-3/2026-09-24/
LOCATION:Carmel Ballroom Dance Studio\, 111 Medical Drive\, Carmel\, IN\, 46032\, United States
ORGANIZER;CN="BOLD Benefits of Learning Dance":MAILTO:5678bolddance@gmail.com
END:VEVENT
BEGIN:VEVENT
DTSTART;TZID=America/Indiana/Indianapolis:20261008T160000
DTEND;TZID=America/Indiana/Indianapolis:20261008T170000
DTSTAMP:20260425T114122
CREATED:20251227T190720Z
LAST-MODIFIED:20251227T190720Z
UID:10000435-1791475200-1791478800@bolddance.org
SUMMARY:Volunteer Dancer Training
DESCRIPTION:This group class is for BOLD VOLUNTEERS ONLY to learn ballroom dance basics to help you as a volunteer with BOLD Benefits of Learning Dance.  Optional $5 donation is appreciated.
URL:https://bolddance.org/event/volunteer-dancer-training-3/2026-10-08/
LOCATION:Carmel Ballroom Dance Studio\, 111 Medical Drive\, Carmel\, IN\, 46032\, United States
ORGANIZER;CN="BOLD Benefits of Learning Dance":MAILTO:5678bolddance@gmail.com
END:VEVENT
BEGIN:VEVENT
DTSTART;TZID=America/Indiana/Indianapolis:20261022T160000
DTEND;TZID=America/Indiana/Indianapolis:20261022T170000
DTSTAMP:20260425T114122
CREATED:20251227T190720Z
LAST-MODIFIED:20251227T190720Z
UID:10000436-1792684800-1792688400@bolddance.org
SUMMARY:Volunteer Dancer Training
DESCRIPTION:This group class is for BOLD VOLUNTEERS ONLY to learn ballroom dance basics to help you as a volunteer with BOLD Benefits of Learning Dance.  Optional $5 donation is appreciated.
URL:https://bolddance.org/event/volunteer-dancer-training-3/2026-10-22/
LOCATION:Carmel Ballroom Dance Studio\, 111 Medical Drive\, Carmel\, IN\, 46032\, United States
ORGANIZER;CN="BOLD Benefits of Learning Dance":MAILTO:5678bolddance@gmail.com
END:VEVENT
BEGIN:VEVENT
DTSTART;TZID=America/Indiana/Indianapolis:20261105T160000
DTEND;TZID=America/Indiana/Indianapolis:20261105T170000
DTSTAMP:20260425T114122
CREATED:20251227T190720Z
LAST-MODIFIED:20251227T190720Z
UID:10000437-1793894400-1793898000@bolddance.org
SUMMARY:Volunteer Dancer Training
DESCRIPTION:This group class is for BOLD VOLUNTEERS ONLY to learn ballroom dance basics to help you as a volunteer with BOLD Benefits of Learning Dance.  Optional $5 donation is appreciated.
URL:https://bolddance.org/event/volunteer-dancer-training-3/2026-11-05/
LOCATION:Carmel Ballroom Dance Studio\, 111 Medical Drive\, Carmel\, IN\, 46032\, United States
ORGANIZER;CN="BOLD Benefits of Learning Dance":MAILTO:5678bolddance@gmail.com
END:VEVENT
BEGIN:VEVENT
DTSTART;TZID=America/Indiana/Indianapolis:20261119T160000
DTEND;TZID=America/Indiana/Indianapolis:20261119T170000
DTSTAMP:20260425T114122
CREATED:20251227T190720Z
LAST-MODIFIED:20251227T190720Z
UID:10000438-1795104000-1795107600@bolddance.org
SUMMARY:Volunteer Dancer Training
DESCRIPTION:This group class is for BOLD VOLUNTEERS ONLY to learn ballroom dance basics to help you as a volunteer with BOLD Benefits of Learning Dance.  Optional $5 donation is appreciated.
URL:https://bolddance.org/event/volunteer-dancer-training-3/2026-11-19/
LOCATION:Carmel Ballroom Dance Studio\, 111 Medical Drive\, Carmel\, IN\, 46032\, United States
ORGANIZER;CN="BOLD Benefits of Learning Dance":MAILTO:5678bolddance@gmail.com
END:VEVENT
BEGIN:VEVENT
DTSTART;TZID=America/Indiana/Indianapolis:20261203T160000
DTEND;TZID=America/Indiana/Indianapolis:20261203T170000
DTSTAMP:20260425T114122
CREATED:20251227T190720Z
LAST-MODIFIED:20251227T190720Z
UID:10000439-1796313600-1796317200@bolddance.org
SUMMARY:Volunteer Dancer Training
DESCRIPTION:This group class is for BOLD VOLUNTEERS ONLY to learn ballroom dance basics to help you as a volunteer with BOLD Benefits of Learning Dance.  Optional $5 donation is appreciated.
URL:https://bolddance.org/event/volunteer-dancer-training-3/2026-12-03/
LOCATION:Carmel Ballroom Dance Studio\, 111 Medical Drive\, Carmel\, IN\, 46032\, United States
ORGANIZER;CN="BOLD Benefits of Learning Dance":MAILTO:5678bolddance@gmail.com
END:VEVENT
BEGIN:VEVENT
DTSTART;TZID=America/Indiana/Indianapolis:20261217T160000
DTEND;TZID=America/Indiana/Indianapolis:20261217T170000
DTSTAMP:20260425T114122
CREATED:20251227T190720Z
LAST-MODIFIED:20251227T190720Z
UID:10000440-1797523200-1797526800@bolddance.org
SUMMARY:Volunteer Dancer Training
DESCRIPTION:This group class is for BOLD VOLUNTEERS ONLY to learn ballroom dance basics to help you as a volunteer with BOLD Benefits of Learning Dance.  Optional $5 donation is appreciated.
URL:https://bolddance.org/event/volunteer-dancer-training-3/2026-12-17/
LOCATION:Carmel Ballroom Dance Studio\, 111 Medical Drive\, Carmel\, IN\, 46032\, United States
ORGANIZER;CN="BOLD Benefits of Learning Dance":MAILTO:5678bolddance@gmail.com
END:VEVENT
END:VCALENDAR