BEGIN:VCALENDAR
VERSION:2.0
PRODID:-//BOLD Dance - ECPv6.15.20//NONSGML v1.0//EN
CALSCALE:GREGORIAN
METHOD:PUBLISH
X-WR-CALNAME:BOLD Dance
X-ORIGINAL-URL:https://bolddance.org
X-WR-CALDESC:Events for BOLD Dance
REFRESH-INTERVAL;VALUE=DURATION:PT1H
X-Robots-Tag:noindex
X-PUBLISHED-TTL:PT1H
BEGIN:VTIMEZONE
TZID:America/Indiana/Indianapolis
BEGIN:DAYLIGHT
TZOFFSETFROM:-0500
TZOFFSETTO:-0400
TZNAME:EDT
DTSTART:20250309T070000
END:DAYLIGHT
BEGIN:STANDARD
TZOFFSETFROM:-0400
TZOFFSETTO:-0500
TZNAME:EST
DTSTART:20251102T060000
END:STANDARD
BEGIN:DAYLIGHT
TZOFFSETFROM:-0500
TZOFFSETTO:-0400
TZNAME:EDT
DTSTART:20260308T070000
END:DAYLIGHT
BEGIN:STANDARD
TZOFFSETFROM:-0400
TZOFFSETTO:-0500
TZNAME:EST
DTSTART:20261101T060000
END:STANDARD
BEGIN:DAYLIGHT
TZOFFSETFROM:-0500
TZOFFSETTO:-0400
TZNAME:EDT
DTSTART:20270314T070000
END:DAYLIGHT
BEGIN:STANDARD
TZOFFSETFROM:-0400
TZOFFSETTO:-0500
TZNAME:EST
DTSTART:20271107T060000
END:STANDARD
END:VTIMEZONE
BEGIN:VTIMEZONE
TZID:UTC
BEGIN:STANDARD
TZOFFSETFROM:+0000
TZOFFSETTO:+0000
TZNAME:UTC
DTSTART:20250101T000000
END:STANDARD
END:VTIMEZONE
BEGIN:VEVENT
DTSTART;TZID=America/Indiana/Indianapolis:20260423T170000
DTEND;TZID=America/Indiana/Indianapolis:20260423T180000
DTSTAMP:20260425T163756
CREATED:20250302T173857Z
LAST-MODIFIED:20251227T185246Z
UID:10000231-1776963600-1776967200@bolddance.org
SUMMARY:Thursday Group Class
DESCRIPTION:Thursday Group Class – Open to all levels.
URL:https://bolddance.org/event/thursday-group-class-2/2026-04-23/
LOCATION:Carmel Ballroom Dance Studio\, 111 Medical Drive\, Carmel\, IN\, 46032\, United States
ORGANIZER;CN="BOLD Benefits of Learning Dance":MAILTO:5678bolddance@gmail.com
END:VEVENT
BEGIN:VEVENT
DTSTART;TZID=America/Indiana/Indianapolis:20260423T160000
DTEND;TZID=America/Indiana/Indianapolis:20260423T170000
DTSTAMP:20260425T163756
CREATED:20251227T190720Z
LAST-MODIFIED:20251227T190720Z
UID:10000423-1776960000-1776963600@bolddance.org
SUMMARY:Volunteer Dancer Training
DESCRIPTION:This group class is for BOLD VOLUNTEERS ONLY to learn ballroom dance basics to help you as a volunteer with BOLD Benefits of Learning Dance.  Optional $5 donation is appreciated.
URL:https://bolddance.org/event/volunteer-dancer-training-3/2026-04-23/
LOCATION:Carmel Ballroom Dance Studio\, 111 Medical Drive\, Carmel\, IN\, 46032\, United States
ORGANIZER;CN="BOLD Benefits of Learning Dance":MAILTO:5678bolddance@gmail.com
END:VEVENT
BEGIN:VEVENT
DTSTART;TZID=America/Indiana/Indianapolis:20260421T183000
DTEND;TZID=America/Indiana/Indianapolis:20260421T193000
DTSTAMP:20260425T163756
CREATED:20250302T173403Z
LAST-MODIFIED:20260412T210611Z
UID:10000280-1776796200-1776799800@bolddance.org
SUMMARY:Tuesday Group Class
DESCRIPTION:Tuesday Group Class – Open to all levels.
URL:https://bolddance.org/event/tuesday-group-class-2/2026-04-21/
LOCATION:Carmel Ballroom Dance Studio\, 111 Medical Drive\, Carmel\, IN\, 46032\, United States
ORGANIZER;CN="BOLD Benefits of Learning Dance":MAILTO:5678bolddance@gmail.com
END:VEVENT
BEGIN:VEVENT
DTSTART;TZID=America/Indiana/Indianapolis:20260420T170000
DTEND;TZID=America/Indiana/Indianapolis:20260420T180000
DTSTAMP:20260425T163756
CREATED:20250302T172614Z
LAST-MODIFIED:20260226T194246Z
UID:10000329-1776704400-1776708000@bolddance.org
SUMMARY:Monday Group Class
DESCRIPTION:Monday Group Class – Open to all levels.
URL:https://bolddance.org/event/monday-group-class/2026-04-20/
LOCATION:Carmel Ballroom Dance Studio\, 111 Medical Drive\, Carmel\, IN\, 46032\, United States
ORGANIZER;CN="BOLD Benefits of Learning Dance":MAILTO:5678bolddance@gmail.com
END:VEVENT
BEGIN:VEVENT
DTSTART;TZID=America/Indiana/Indianapolis:20260414T183000
DTEND;TZID=America/Indiana/Indianapolis:20260414T193000
DTSTAMP:20260425T163756
CREATED:20250302T173403Z
LAST-MODIFIED:20260412T210611Z
UID:10000279-1776191400-1776195000@bolddance.org
SUMMARY:Tuesday Group Class
DESCRIPTION:Tuesday Group Class – Open to all levels.
URL:https://bolddance.org/event/tuesday-group-class-2/2026-04-14/
LOCATION:Carmel Ballroom Dance Studio\, 111 Medical Drive\, Carmel\, IN\, 46032\, United States
ORGANIZER;CN="BOLD Benefits of Learning Dance":MAILTO:5678bolddance@gmail.com
END:VEVENT
BEGIN:VEVENT
DTSTART;TZID=America/Indiana/Indianapolis:20260413T170000
DTEND;TZID=America/Indiana/Indianapolis:20260413T180000
DTSTAMP:20260425T163756
CREATED:20250302T172614Z
LAST-MODIFIED:20260226T194246Z
UID:10000328-1776099600-1776103200@bolddance.org
SUMMARY:Monday Group Class
DESCRIPTION:Monday Group Class – Open to all levels.
URL:https://bolddance.org/event/monday-group-class/2026-04-13/
LOCATION:Carmel Ballroom Dance Studio\, 111 Medical Drive\, Carmel\, IN\, 46032\, United States
ORGANIZER;CN="BOLD Benefits of Learning Dance":MAILTO:5678bolddance@gmail.com
END:VEVENT
BEGIN:VEVENT
DTSTART;TZID=America/Indiana/Indianapolis:20260409T170000
DTEND;TZID=America/Indiana/Indianapolis:20260409T180000
DTSTAMP:20260425T163756
CREATED:20250302T173857Z
LAST-MODIFIED:20251227T185246Z
UID:10000229-1775754000-1775757600@bolddance.org
SUMMARY:Thursday Group Class
DESCRIPTION:Thursday Group Class – Open to all levels.
URL:https://bolddance.org/event/thursday-group-class-2/2026-04-09/
LOCATION:Carmel Ballroom Dance Studio\, 111 Medical Drive\, Carmel\, IN\, 46032\, United States
ORGANIZER;CN="BOLD Benefits of Learning Dance":MAILTO:5678bolddance@gmail.com
END:VEVENT
BEGIN:VEVENT
DTSTART;TZID=America/Indiana/Indianapolis:20260409T160000
DTEND;TZID=America/Indiana/Indianapolis:20260409T170000
DTSTAMP:20260425T163756
CREATED:20251227T190720Z
LAST-MODIFIED:20251227T190720Z
UID:10000422-1775750400-1775754000@bolddance.org
SUMMARY:Volunteer Dancer Training
DESCRIPTION:This group class is for BOLD VOLUNTEERS ONLY to learn ballroom dance basics to help you as a volunteer with BOLD Benefits of Learning Dance.  Optional $5 donation is appreciated.
URL:https://bolddance.org/event/volunteer-dancer-training-3/2026-04-09/
LOCATION:Carmel Ballroom Dance Studio\, 111 Medical Drive\, Carmel\, IN\, 46032\, United States
ORGANIZER;CN="BOLD Benefits of Learning Dance":MAILTO:5678bolddance@gmail.com
END:VEVENT
BEGIN:VEVENT
DTSTART;TZID=America/Indiana/Indianapolis:20260407T183000
DTEND;TZID=America/Indiana/Indianapolis:20260407T193000
DTSTAMP:20260425T163756
CREATED:20250302T173403Z
LAST-MODIFIED:20260412T210611Z
UID:10000278-1775586600-1775590200@bolddance.org
SUMMARY:Tuesday Group Class
DESCRIPTION:Tuesday Group Class – Open to all levels.
URL:https://bolddance.org/event/tuesday-group-class-2/2026-04-07/
LOCATION:Carmel Ballroom Dance Studio\, 111 Medical Drive\, Carmel\, IN\, 46032\, United States
ORGANIZER;CN="BOLD Benefits of Learning Dance":MAILTO:5678bolddance@gmail.com
END:VEVENT
BEGIN:VEVENT
DTSTART;TZID=America/Indiana/Indianapolis:20260406T170000
DTEND;TZID=America/Indiana/Indianapolis:20260406T180000
DTSTAMP:20260425T163756
CREATED:20250302T172614Z
LAST-MODIFIED:20260226T194246Z
UID:10000327-1775494800-1775498400@bolddance.org
SUMMARY:Monday Group Class
DESCRIPTION:Monday Group Class – Open to all levels.
URL:https://bolddance.org/event/monday-group-class/2026-04-06/
LOCATION:Carmel Ballroom Dance Studio\, 111 Medical Drive\, Carmel\, IN\, 46032\, United States
ORGANIZER;CN="BOLD Benefits of Learning Dance":MAILTO:5678bolddance@gmail.com
END:VEVENT
BEGIN:VEVENT
DTSTART;TZID=America/Indiana/Indianapolis:20260402T170000
DTEND;TZID=America/Indiana/Indianapolis:20260402T180000
DTSTAMP:20260425T163756
CREATED:20250302T173857Z
LAST-MODIFIED:20251227T185246Z
UID:10000228-1775149200-1775152800@bolddance.org
SUMMARY:Thursday Group Class
DESCRIPTION:Thursday Group Class – Open to all levels.
URL:https://bolddance.org/event/thursday-group-class-2/2026-04-02/
LOCATION:Carmel Ballroom Dance Studio\, 111 Medical Drive\, Carmel\, IN\, 46032\, United States
ORGANIZER;CN="BOLD Benefits of Learning Dance":MAILTO:5678bolddance@gmail.com
END:VEVENT
BEGIN:VEVENT
DTSTART;TZID=America/Indiana/Indianapolis:20260331T183000
DTEND;TZID=America/Indiana/Indianapolis:20260331T193000
DTSTAMP:20260425T163756
CREATED:20250302T173403Z
LAST-MODIFIED:20260412T210611Z
UID:10000277-1774981800-1774985400@bolddance.org
SUMMARY:Tuesday Group Class
DESCRIPTION:Tuesday Group Class – Open to all levels.
URL:https://bolddance.org/event/tuesday-group-class-2/2026-03-31/
LOCATION:Carmel Ballroom Dance Studio\, 111 Medical Drive\, Carmel\, IN\, 46032\, United States
ORGANIZER;CN="BOLD Benefits of Learning Dance":MAILTO:5678bolddance@gmail.com
END:VEVENT
BEGIN:VEVENT
DTSTART;TZID=America/Indiana/Indianapolis:20260330T170000
DTEND;TZID=America/Indiana/Indianapolis:20260330T180000
DTSTAMP:20260425T163756
CREATED:20250302T172614Z
LAST-MODIFIED:20260226T194246Z
UID:10000326-1774890000-1774893600@bolddance.org
SUMMARY:Monday Group Class
DESCRIPTION:Monday Group Class – Open to all levels.
URL:https://bolddance.org/event/monday-group-class/2026-03-30/
LOCATION:Carmel Ballroom Dance Studio\, 111 Medical Drive\, Carmel\, IN\, 46032\, United States
ORGANIZER;CN="BOLD Benefits of Learning Dance":MAILTO:5678bolddance@gmail.com
END:VEVENT
BEGIN:VEVENT
DTSTART;TZID=America/Indiana/Indianapolis:20260326T170000
DTEND;TZID=America/Indiana/Indianapolis:20260326T180000
DTSTAMP:20260425T163756
CREATED:20250302T173857Z
LAST-MODIFIED:20251227T185246Z
UID:10000227-1774544400-1774548000@bolddance.org
SUMMARY:Thursday Group Class
DESCRIPTION:Thursday Group Class – Open to all levels.
URL:https://bolddance.org/event/thursday-group-class-2/2026-03-26/
LOCATION:Carmel Ballroom Dance Studio\, 111 Medical Drive\, Carmel\, IN\, 46032\, United States
ORGANIZER;CN="BOLD Benefits of Learning Dance":MAILTO:5678bolddance@gmail.com
END:VEVENT
BEGIN:VEVENT
DTSTART;TZID=America/Indiana/Indianapolis:20260326T160000
DTEND;TZID=America/Indiana/Indianapolis:20260326T170000
DTSTAMP:20260425T163756
CREATED:20251227T190720Z
LAST-MODIFIED:20251227T190720Z
UID:10000421-1774540800-1774544400@bolddance.org
SUMMARY:Volunteer Dancer Training
DESCRIPTION:This group class is for BOLD VOLUNTEERS ONLY to learn ballroom dance basics to help you as a volunteer with BOLD Benefits of Learning Dance.  Optional $5 donation is appreciated.
URL:https://bolddance.org/event/volunteer-dancer-training-3/2026-03-26/
LOCATION:Carmel Ballroom Dance Studio\, 111 Medical Drive\, Carmel\, IN\, 46032\, United States
ORGANIZER;CN="BOLD Benefits of Learning Dance":MAILTO:5678bolddance@gmail.com
END:VEVENT
BEGIN:VEVENT
DTSTART;TZID=America/Indiana/Indianapolis:20260324T183000
DTEND;TZID=America/Indiana/Indianapolis:20260324T193000
DTSTAMP:20260425T163756
CREATED:20250302T173403Z
LAST-MODIFIED:20260412T210611Z
UID:10000276-1774377000-1774380600@bolddance.org
SUMMARY:Tuesday Group Class
DESCRIPTION:Tuesday Group Class – Open to all levels.
URL:https://bolddance.org/event/tuesday-group-class-2/2026-03-24/
LOCATION:Carmel Ballroom Dance Studio\, 111 Medical Drive\, Carmel\, IN\, 46032\, United States
ORGANIZER;CN="BOLD Benefits of Learning Dance":MAILTO:5678bolddance@gmail.com
END:VEVENT
BEGIN:VEVENT
DTSTART;TZID=America/Indiana/Indianapolis:20260323T170000
DTEND;TZID=America/Indiana/Indianapolis:20260323T180000
DTSTAMP:20260425T163756
CREATED:20250302T172614Z
LAST-MODIFIED:20260226T194246Z
UID:10000325-1774285200-1774288800@bolddance.org
SUMMARY:Monday Group Class
DESCRIPTION:Monday Group Class – Open to all levels.
URL:https://bolddance.org/event/monday-group-class/2026-03-23/
LOCATION:Carmel Ballroom Dance Studio\, 111 Medical Drive\, Carmel\, IN\, 46032\, United States
ORGANIZER;CN="BOLD Benefits of Learning Dance":MAILTO:5678bolddance@gmail.com
END:VEVENT
BEGIN:VEVENT
DTSTART;TZID=UTC:20260321T180000
DTEND;TZID=UTC:20260321T203000
DTSTAMP:20260425T163756
CREATED:20260126T214655Z
LAST-MODIFIED:20260126T214655Z
UID:10000447-1774116000-1774125000@bolddance.org
SUMMARY:March Dance Party
DESCRIPTION:Join us for BOLD’s March Dance Party!  Saturday March 21st from 6-8:30pm at Carmel Ballroom Dance Studio.  $5/person.  Family and friends are always welcome!
URL:https://bolddance.org/event/march-dance-party/
LOCATION:Carmel Ballroom Dance Studio\, 111 Medical Drive\, Carmel\, IN\, 46032\, United States
ORGANIZER;CN="BOLD Benefits of Learning Dance":MAILTO:5678bolddance@gmail.com
END:VEVENT
BEGIN:VEVENT
DTSTART;TZID=America/Indiana/Indianapolis:20260319T170000
DTEND;TZID=America/Indiana/Indianapolis:20260319T180000
DTSTAMP:20260425T163756
CREATED:20250302T173857Z
LAST-MODIFIED:20251227T185246Z
UID:10000226-1773939600-1773943200@bolddance.org
SUMMARY:Thursday Group Class
DESCRIPTION:Thursday Group Class – Open to all levels.
URL:https://bolddance.org/event/thursday-group-class-2/2026-03-19/
LOCATION:Carmel Ballroom Dance Studio\, 111 Medical Drive\, Carmel\, IN\, 46032\, United States
ORGANIZER;CN="BOLD Benefits of Learning Dance":MAILTO:5678bolddance@gmail.com
END:VEVENT
BEGIN:VEVENT
DTSTART;TZID=America/Indiana/Indianapolis:20260317T183000
DTEND;TZID=America/Indiana/Indianapolis:20260317T193000
DTSTAMP:20260425T163756
CREATED:20250302T173403Z
LAST-MODIFIED:20260412T210611Z
UID:10000275-1773772200-1773775800@bolddance.org
SUMMARY:Tuesday Group Class
DESCRIPTION:Tuesday Group Class – Open to all levels.
URL:https://bolddance.org/event/tuesday-group-class-2/2026-03-17/
LOCATION:Carmel Ballroom Dance Studio\, 111 Medical Drive\, Carmel\, IN\, 46032\, United States
ORGANIZER;CN="BOLD Benefits of Learning Dance":MAILTO:5678bolddance@gmail.com
END:VEVENT
BEGIN:VEVENT
DTSTART;TZID=America/Indiana/Indianapolis:20260316T170000
DTEND;TZID=America/Indiana/Indianapolis:20260316T180000
DTSTAMP:20260425T163756
CREATED:20250302T172614Z
LAST-MODIFIED:20260226T194246Z
UID:10000324-1773680400-1773684000@bolddance.org
SUMMARY:Monday Group Class
DESCRIPTION:Monday Group Class – Open to all levels.
URL:https://bolddance.org/event/monday-group-class/2026-03-16/
LOCATION:Carmel Ballroom Dance Studio\, 111 Medical Drive\, Carmel\, IN\, 46032\, United States
ORGANIZER;CN="BOLD Benefits of Learning Dance":MAILTO:5678bolddance@gmail.com
END:VEVENT
BEGIN:VEVENT
DTSTART;TZID=America/Indiana/Indianapolis:20260312T170000
DTEND;TZID=America/Indiana/Indianapolis:20260312T180000
DTSTAMP:20260425T163756
CREATED:20250302T173857Z
LAST-MODIFIED:20251227T185246Z
UID:10000225-1773334800-1773338400@bolddance.org
SUMMARY:Thursday Group Class
DESCRIPTION:Thursday Group Class – Open to all levels.
URL:https://bolddance.org/event/thursday-group-class-2/2026-03-12/
LOCATION:Carmel Ballroom Dance Studio\, 111 Medical Drive\, Carmel\, IN\, 46032\, United States
ORGANIZER;CN="BOLD Benefits of Learning Dance":MAILTO:5678bolddance@gmail.com
END:VEVENT
BEGIN:VEVENT
DTSTART;TZID=America/Indiana/Indianapolis:20260312T160000
DTEND;TZID=America/Indiana/Indianapolis:20260312T170000
DTSTAMP:20260425T163756
CREATED:20251227T190720Z
LAST-MODIFIED:20251227T190720Z
UID:10000420-1773331200-1773334800@bolddance.org
SUMMARY:Volunteer Dancer Training
DESCRIPTION:This group class is for BOLD VOLUNTEERS ONLY to learn ballroom dance basics to help you as a volunteer with BOLD Benefits of Learning Dance.  Optional $5 donation is appreciated.
URL:https://bolddance.org/event/volunteer-dancer-training-3/2026-03-12/
LOCATION:Carmel Ballroom Dance Studio\, 111 Medical Drive\, Carmel\, IN\, 46032\, United States
ORGANIZER;CN="BOLD Benefits of Learning Dance":MAILTO:5678bolddance@gmail.com
END:VEVENT
BEGIN:VEVENT
DTSTART;TZID=UTC:20260311T170000
DTEND;TZID=UTC:20260311T200000
DTSTAMP:20260425T163756
CREATED:20251227T183702Z
LAST-MODIFIED:20251227T183702Z
UID:10000375-1773248400-1773259200@bolddance.org
SUMMARY:Culver's Share Night
DESCRIPTION:Join us and bring a friend to enjoy some burgers and custard while supporting BOLD!  We have dinner figured out for you on Wednesday\, March 11th from 5-8pm at the Culver’s at 431 E Carmel Drive.  The higher the sales the larger the percentage Culver’s will donate back to BOLD!
URL:https://bolddance.org/event/culvers-share-night-2/
LOCATION:Culver’s – Carmel\, IN\, 431 E Carmel Drive\, Carmel\, IN\, 46032\, United States
ATTACH;FMTTYPE=image/jpeg:https://bolddance.org/wp-content/uploads/2025/12/BOLD-Culvers-Flyer.jpg
ORGANIZER;CN="BOLD Benefits of Learning Dance":MAILTO:5678bolddance@gmail.com
END:VEVENT
BEGIN:VEVENT
DTSTART;TZID=America/Indiana/Indianapolis:20260310T183000
DTEND;TZID=America/Indiana/Indianapolis:20260310T193000
DTSTAMP:20260425T163756
CREATED:20250302T173403Z
LAST-MODIFIED:20260412T210611Z
UID:10000274-1773167400-1773171000@bolddance.org
SUMMARY:Tuesday Group Class
DESCRIPTION:Tuesday Group Class – Open to all levels.
URL:https://bolddance.org/event/tuesday-group-class-2/2026-03-10/
LOCATION:Carmel Ballroom Dance Studio\, 111 Medical Drive\, Carmel\, IN\, 46032\, United States
ORGANIZER;CN="BOLD Benefits of Learning Dance":MAILTO:5678bolddance@gmail.com
END:VEVENT
BEGIN:VEVENT
DTSTART;TZID=UTC:20260309T170000
DTEND;TZID=UTC:20260309T180000
DTSTAMP:20260425T163756
CREATED:20260226T194101Z
LAST-MODIFIED:20260226T194101Z
UID:10000450-1773075600-1773079200@bolddance.org
SUMMARY:Dress Rehearsal Only - NO GROUP CLASS
DESCRIPTION:There will be no group class at Carmel Ballroom tonight.  For those participating in the Fishers Arts Exhibition performance on 3/13/26\, we will have a dress rehearsal during normal class time at the event location. \nWhen: Monday\, March 9th from 5-6pm \nWhere: 1 Municipal Drive\, Fishers\, IN  46038 (use double door entrance on building named Theater and City Hall)
URL:https://bolddance.org/event/dress-rehearsal-only-no-group-class/
LOCATION:Fishers Art Center\, 1 Municipal Drive\, Fishers\, IN\, 46038\, United States
ORGANIZER;CN="BOLD Benefits of Learning Dance":MAILTO:5678bolddance@gmail.com
END:VEVENT
BEGIN:VEVENT
DTSTART;TZID=America/Indiana/Indianapolis:20260305T170000
DTEND;TZID=America/Indiana/Indianapolis:20260305T180000
DTSTAMP:20260425T163756
CREATED:20250302T173857Z
LAST-MODIFIED:20251227T185246Z
UID:10000224-1772730000-1772733600@bolddance.org
SUMMARY:Thursday Group Class
DESCRIPTION:Thursday Group Class – Open to all levels.
URL:https://bolddance.org/event/thursday-group-class-2/2026-03-05/
LOCATION:Carmel Ballroom Dance Studio\, 111 Medical Drive\, Carmel\, IN\, 46032\, United States
ORGANIZER;CN="BOLD Benefits of Learning Dance":MAILTO:5678bolddance@gmail.com
END:VEVENT
BEGIN:VEVENT
DTSTART;TZID=America/Indiana/Indianapolis:20260303T183000
DTEND;TZID=America/Indiana/Indianapolis:20260303T193000
DTSTAMP:20260425T163756
CREATED:20250302T173403Z
LAST-MODIFIED:20260412T210611Z
UID:10000273-1772562600-1772566200@bolddance.org
SUMMARY:Tuesday Group Class
DESCRIPTION:Tuesday Group Class – Open to all levels.
URL:https://bolddance.org/event/tuesday-group-class-2/2026-03-03/
LOCATION:Carmel Ballroom Dance Studio\, 111 Medical Drive\, Carmel\, IN\, 46032\, United States
ORGANIZER;CN="BOLD Benefits of Learning Dance":MAILTO:5678bolddance@gmail.com
END:VEVENT
BEGIN:VEVENT
DTSTART;TZID=America/Indiana/Indianapolis:20260302T170000
DTEND;TZID=America/Indiana/Indianapolis:20260302T180000
DTSTAMP:20260425T163756
CREATED:20250302T172614Z
LAST-MODIFIED:20260226T194246Z
UID:10000322-1772470800-1772474400@bolddance.org
SUMMARY:Monday Group Class
DESCRIPTION:Monday Group Class – Open to all levels.
URL:https://bolddance.org/event/monday-group-class/2026-03-02/
LOCATION:Carmel Ballroom Dance Studio\, 111 Medical Drive\, Carmel\, IN\, 46032\, United States
ORGANIZER;CN="BOLD Benefits of Learning Dance":MAILTO:5678bolddance@gmail.com
END:VEVENT
BEGIN:VEVENT
DTSTART;TZID=America/Indiana/Indianapolis:20260226T170000
DTEND;TZID=America/Indiana/Indianapolis:20260226T180000
DTSTAMP:20260425T163756
CREATED:20250302T173857Z
LAST-MODIFIED:20251227T185246Z
UID:10000223-1772125200-1772128800@bolddance.org
SUMMARY:Thursday Group Class
DESCRIPTION:Thursday Group Class – Open to all levels.
URL:https://bolddance.org/event/thursday-group-class-2/2026-02-26/
LOCATION:Carmel Ballroom Dance Studio\, 111 Medical Drive\, Carmel\, IN\, 46032\, United States
ORGANIZER;CN="BOLD Benefits of Learning Dance":MAILTO:5678bolddance@gmail.com
END:VEVENT
END:VCALENDAR