BEGIN:VCALENDAR
VERSION:2.0
PRODID:-//BOLD Dance - ECPv6.15.20//NONSGML v1.0//EN
CALSCALE:GREGORIAN
METHOD:PUBLISH
X-ORIGINAL-URL:https://bolddance.org
X-WR-CALDESC:Events for BOLD Dance
REFRESH-INTERVAL;VALUE=DURATION:PT1H
X-Robots-Tag:noindex
X-PUBLISHED-TTL:PT1H
BEGIN:VTIMEZONE
TZID:UTC
BEGIN:STANDARD
TZOFFSETFROM:+0000
TZOFFSETTO:+0000
TZNAME:UTC
DTSTART:20240101T000000
END:STANDARD
END:VTIMEZONE
BEGIN:VEVENT
DTSTART;TZID=UTC:20250926T190000
DTEND;TZID=UTC:20250926T230000
DTSTAMP:20260417T172647
CREATED:20250617T223549Z
LAST-MODIFIED:20250617T225514Z
UID:10000191-1758913200-1758927600@bolddance.org
SUMMARY:Big Ballroom Bash
DESCRIPTION:Join BOLD and other’s from the local ballroom dance community for an evening of fun featuring performances from professional and amateur dancers and plenty of general dancing for all who attend.  Funds raised from ticket sales go back to supporting special needs dance programs like BOLD! \nFor tickets\, contact Rog Greenawalt at bigballroombash@gmail.com or 317-679-0752.
URL:https://bolddance.org/event/big-ballroom-bash/
LOCATION:Murat Shriners Arabian Room\, 510 N. New Jersey St\, Indianapolis\, IN\, 46204\, United States
ATTACH;FMTTYPE=image/jpeg:https://bolddance.org/wp-content/uploads/2025/06/Big-Ballroom-Bash-Logo.jpg
END:VEVENT
END:VCALENDAR